BEGIN:VCALENDAR
VERSION:2.0
PRODID:-//Eddy Senior Living Communities - ECPv6.2.3.2//NONSGML v1.0//EN
CALSCALE:GREGORIAN
METHOD:PUBLISH
X-ORIGINAL-URL:https://www.eddyseniorliving.com
X-WR-CALDESC:Events for Eddy Senior Living Communities
REFRESH-INTERVAL;VALUE=DURATION:PT1H
X-Robots-Tag:noindex
X-PUBLISHED-TTL:PT1H
BEGIN:VTIMEZONE
TZID:America/New_York
BEGIN:DAYLIGHT
TZOFFSETFROM:-0500
TZOFFSETTO:-0400
TZNAME:EDT
DTSTART:20170312T070000
END:DAYLIGHT
BEGIN:STANDARD
TZOFFSETFROM:-0400
TZOFFSETTO:-0500
TZNAME:EST
DTSTART:20171105T060000
END:STANDARD
BEGIN:DAYLIGHT
TZOFFSETFROM:-0500
TZOFFSETTO:-0400
TZNAME:EDT
DTSTART:20180311T070000
END:DAYLIGHT
BEGIN:STANDARD
TZOFFSETFROM:-0400
TZOFFSETTO:-0500
TZNAME:EST
DTSTART:20181104T060000
END:STANDARD
BEGIN:DAYLIGHT
TZOFFSETFROM:-0500
TZOFFSETTO:-0400
TZNAME:EDT
DTSTART:20190310T070000
END:DAYLIGHT
BEGIN:STANDARD
TZOFFSETFROM:-0400
TZOFFSETTO:-0500
TZNAME:EST
DTSTART:20191103T060000
END:STANDARD
BEGIN:DAYLIGHT
TZOFFSETFROM:-0500
TZOFFSETTO:-0400
TZNAME:EDT
DTSTART:20200308T070000
END:DAYLIGHT
BEGIN:STANDARD
TZOFFSETFROM:-0400
TZOFFSETTO:-0500
TZNAME:EST
DTSTART:20201101T060000
END:STANDARD
BEGIN:DAYLIGHT
TZOFFSETFROM:-0500
TZOFFSETTO:-0400
TZNAME:EDT
DTSTART:20210314T070000
END:DAYLIGHT
BEGIN:STANDARD
TZOFFSETFROM:-0400
TZOFFSETTO:-0500
TZNAME:EST
DTSTART:20211107T060000
END:STANDARD
BEGIN:DAYLIGHT
TZOFFSETFROM:-0500
TZOFFSETTO:-0400
TZNAME:EDT
DTSTART:20220313T070000
END:DAYLIGHT
BEGIN:STANDARD
TZOFFSETFROM:-0400
TZOFFSETTO:-0500
TZNAME:EST
DTSTART:20221106T060000
END:STANDARD
END:VTIMEZONE
BEGIN:VEVENT
DTSTART;TZID=America/New_York:20221129T120000
DTEND;TZID=America/New_York:20221129T140000
DTSTAMP:20260424T235529
CREATED:20221025T161734Z
LAST-MODIFIED:20221025T161734Z
UID:8865-1669723200-1669730400@www.eddyseniorliving.com
SUMMARY:Glen Eddy Lunch & Learn - Senior Living: Glen Eddy Resident Panel
DESCRIPTION:Be Our Guest! You’re invited to Lunch & Learn with Glen Eddy.\nSenior Living: Glen Eddy Resident Panel \nHear first-hand from Glen Eddy Residents—just like you—on why they chose to make Glen Eddy their home. \n\nEnjoy a seasonal lunch prepared by our on-site chef.\nTours of our community will be available after each session.\nAccess to limited-time move-in specials.\nGet all your questions answers by the experts.\nPlus\, fall gift raffle!\n\nCall (518) 280-8369 to RSVP
URL:https://www.eddyseniorliving.com/event/glen-eddy-lunch-learn-senior-living-glen-eddy-resident-panel/
LOCATION:Glen Eddy\, One Glen Eddy Drive\, Niskayuna\, NY\, 12309\, United States
CATEGORIES:Glen Eddy
END:VEVENT
BEGIN:VEVENT
DTSTART;TZID=America/New_York:20221115T120000
DTEND;TZID=America/New_York:20221115T140000
DTSTAMP:20260424T235529
CREATED:20221025T161217Z
LAST-MODIFIED:20221025T162256Z
UID:8861-1668513600-1668520800@www.eddyseniorliving.com
SUMMARY:Glen Eddy Lunch & Learn: Selling Your House in Today’s Real Estate Market
DESCRIPTION:Be Our Guest! You’re invited to Lunch & Learn with Glen Eddy.\nSelling Your House in Today’s Real Estate Market\nPresented By: Judi Gabler of Gabler Realty\, Carol Asiello of Howard Hanna & Marion DeSantis of Keller Williams \nHear from local real estate agents regarding the best-practices you need to follow to get top dollar for your home. \n\nEnjoy a seasonal lunch prepared by our on-site chef.\nTours of our community will be available after each session.\nAccess to limited-time move-in specials.\nGet all your questions answers by the experts.\nPlus\, fall gift raffle!\n\nCall (518) 280-8369 to RSVP
URL:https://www.eddyseniorliving.com/event/glen-eddy-lunch-learn-selling-your-house-in-todays-real-estate-market/
LOCATION:Glen Eddy\, One Glen Eddy Drive\, Niskayuna\, NY\, 12309\, United States
CATEGORIES:Glen Eddy
END:VEVENT
BEGIN:VEVENT
DTSTART;TZID=America/New_York:20221101T120000
DTEND;TZID=America/New_York:20221101T140000
DTSTAMP:20260424T235529
CREATED:20221025T160730Z
LAST-MODIFIED:20221025T161423Z
UID:8846-1667304000-1667311200@www.eddyseniorliving.com
SUMMARY:Glen Eddy Lunch & Learn: The 5 'Not-So-Scary' Steps to Simplifying Your Life!
DESCRIPTION:Be Our Guest! You’re invited to Lunch & Learn with Glen Eddy.\nThe 5 ‘Not-So-Scary’ Steps to Simplifying Your Life!\nPresented by: Michelle Kavanaugh\, Organize Senior Moves\n\nJoin Michelle as she shares useful tips on downsizing and selling your home. Learn everything you need to know before making the move to independent living. \n\nEnjoy a seasonal lunch prepared by our on-site chef.\nTours of our community will be available after each session.\nAccess to limited-time move-in specials.\nGet all your questions answers by the experts.\nPlus\, fall gift raffle!\n\nCall (518) 280-8369 to RSVP
URL:https://www.eddyseniorliving.com/event/glen-eddy-lunch-learn-the-5-not-so-scary-steps-to-simplifying-your-life/
LOCATION:Glen Eddy\, One Glen Eddy Drive\, Niskayuna\, NY\, 12309\, United States
CATEGORIES:Glen Eddy
END:VEVENT
BEGIN:VEVENT
DTSTART;TZID=America/New_York:20220419T100000
DTEND;TZID=America/New_York:20220423T170000
DTSTAMP:20260424T235529
CREATED:20220318T145714Z
LAST-MODIFIED:20220413T211347Z
UID:8497-1650362400-1650733200@www.eddyseniorliving.com
SUMMARY:Glen Eddy invites you to the Spring Open House Week
DESCRIPTION:Be our guest!  Glen Eddy invites you to the Spring Open House Week.  Come see Senior Living\, visit with a current resident\, and learn about all of the amenities Glen Eddy has to offer. A variety of time choices are available to fit your schedule;  Tuesday\, April 19th through Friday\, April 22nd from 10 am to 6 pm and Saturday\, April 23rd from 9 am to 2 pm.  Appointments are required\, please call today or fill out the form below to reserve your spot.  RSVP to 518-280-8368. \n  \n\n 
URL:https://www.eddyseniorliving.com/event/glen-eddy-invites-you-to-the-spring-open-house-week/
LOCATION:NY
CATEGORIES:Glen Eddy,The Terrace at Glen Eddy
END:VEVENT
BEGIN:VEVENT
DTSTART;TZID=America/New_York:20211116T100000
DTEND;TZID=America/New_York:20211124T140000
DTSTAMP:20260424T235529
CREATED:20211104T202449Z
LAST-MODIFIED:20220214T195646Z
UID:8203-1637056800-1637762400@www.eddyseniorliving.com
SUMMARY:Glen Eddy Hosts Fall Open House
DESCRIPTION:Join us for our Fall Open House! Tuesday\, November 16 – Saturday\, November 20th at our community located at 1 Glen Eddy Drive in Niskayuna\, NY. See various apartment styles including one-bedroom\, one-bedroom with den\, two-bedroom apartments\, and cottage homes. Learn about the high-quality services and amenities available at our Independent or Enriched Housing Communities. There is no charge for this event. All tours are by appointment and are being held Tuesday-Friday from 10am-6pm & Saturday from 9am-2pm. \nCall 518-280-8368 to schedule your open hour tour today!
URL:https://www.eddyseniorliving.com/event/glen-eddy-hosts-openhouse/
LOCATION:Glen Eddy\, One Glen Eddy Drive\, Niskayuna\, NY\, 12309\, United States
CATEGORIES:Glen Eddy,The Terrace at Glen Eddy
END:VEVENT
BEGIN:VEVENT
DTSTART;TZID=America/New_York:20190612T140000
DTEND;TZID=America/New_York:20190612T160000
DTSTAMP:20260424T235529
CREATED:20190607T192639Z
LAST-MODIFIED:20220214T200823Z
UID:5258-1560348000-1560355200@www.eddyseniorliving.com
SUMMARY:Glen Eddy Hosts Open House
DESCRIPTION:Mark your calendars for Wednesday\, June 12th from 2-4pm.  Glen Eddy will be hosting an open house.  Here’s your chance to stop by\, tour an apartment on in either Independent or Enriched Housing\, enjoy some treats\, and get questions answered.   There is no charge for this event.
URL:https://www.eddyseniorliving.com/event/glen-eddy-hosts-open-house/
LOCATION:Glen Eddy\, One Glen Eddy Drive\, Niskayuna\, NY\, 12309\, United States
CATEGORIES:Glen Eddy,The Terrace at Glen Eddy
END:VEVENT
BEGIN:VEVENT
DTSTART;TZID=America/New_York:20190523T140000
DTEND;TZID=America/New_York:20190523T160000
DTSTAMP:20260424T235529
CREATED:20190507T161924Z
LAST-MODIFIED:20220214T202827Z
UID:5210-1558620000-1558627200@www.eddyseniorliving.com
SUMMARY:Glen Eddy welcomes you to Coffee & Conversation
DESCRIPTION:A casual conversation\, some coffee\, and an opportunity for you to ask questions. Coffee & Conversation is scheduled three different dates\, choose which one fits your schedule. May 23\, June 4\, & June 12\, from 2-4.   We look forward to having you stop in to this free event.
URL:https://www.eddyseniorliving.com/event/glen-eddy-welcomes-you-to-coffee-conversation/
LOCATION:Glen Eddy\, One Glen Eddy Drive\, Niskayuna\, NY\, 12309\, United States
CATEGORIES:Glen Eddy
END:VEVENT
BEGIN:VEVENT
DTSTART;TZID=America/New_York:20190509T120000
DTEND;TZID=America/New_York:20190509T140000
DTSTAMP:20260424T235529
CREATED:20190305T160935Z
LAST-MODIFIED:20220214T204305Z
UID:5063-1557403200-1557410400@www.eddyseniorliving.com
SUMMARY:Glen Eddy pricing symposium is planned
DESCRIPTION:Glen Eddy pricing symposium is scheduled for May 9th at 12 noon.  This free program will fill quickly\, rsvp today at: 518-280-8368
URL:https://www.eddyseniorliving.com/event/glen-eddy-pricing-symposium-is-planned/
LOCATION:Glen Eddy\, One Glen Eddy Drive\, Niskayuna\, NY\, 12309\, United States
CATEGORIES:Glen Eddy
END:VEVENT
BEGIN:VEVENT
DTSTART;TZID=America/New_York:20190422T140000
DTEND;TZID=America/New_York:20190422T160000
DTSTAMP:20260424T235529
CREATED:20190305T160646Z
LAST-MODIFIED:20220214T204451Z
UID:5061-1555941600-1555948800@www.eddyseniorliving.com
SUMMARY:Glen Eddy to hold Real Estate Program
DESCRIPTION:Wonder how houses are selling in the Capital Region?  Come learn tips from local real estate agent Marian DeSantis.  This free program will be Monday\, April 22nd at 2pm.  RSVP today at: 518-280-8368 for this FREE Event!
URL:https://www.eddyseniorliving.com/event/glen-eddy-to-hold-real-estate-program/
LOCATION:Glen Eddy\, One Glen Eddy Drive\, Niskayuna\, NY\, 12309\, United States
CATEGORIES:Glen Eddy
END:VEVENT
BEGIN:VEVENT
DTSTART;TZID=America/New_York:20190412T140000
DTEND;TZID=America/New_York:20190412T160000
DTSTAMP:20260424T235529
CREATED:20190305T155730Z
LAST-MODIFIED:20220214T204846Z
UID:5058-1555077600-1555084800@www.eddyseniorliving.com
SUMMARY:Resident Panel discussion at Glen Eddy
DESCRIPTION:Have you ever wondered what it’s like to be a Resident at Glen Eddy?  What were the Residents concerns?  What issues did they encounter in the move into Glen Eddy?  A Resident Panel will be available for questions and answers at 2pm on Friday\, April 12th.    RSVP today for this FREE event at: 518-280-8368.
URL:https://www.eddyseniorliving.com/event/resident-panel-discussion-at-glen-eddy/
LOCATION:Glen Eddy\, One Glen Eddy Drive\, Niskayuna\, NY\, 12309\, United States
CATEGORIES:Glen Eddy
END:VEVENT
BEGIN:VEVENT
DTSTART;TZID=America/New_York:20190313T140000
DTEND;TZID=America/New_York:20190313T160000
DTSTAMP:20260424T235529
CREATED:20190305T154354Z
LAST-MODIFIED:20220214T210155Z
UID:5050-1552485600-1552492800@www.eddyseniorliving.com
SUMMARY:Glen Eddy hosts Cocoa & Conversation
DESCRIPTION:Swing by Glen Eddy on Wed the 13th for cocoa & conversation. This relaxed time will be an opportunity for you to ask questions\, take a tour and have some cocoa.  Mark your calendars from 2-4 pm on the 13th.  RSVP today at: 518-280-8368
URL:https://www.eddyseniorliving.com/event/glen-eddy-hosts-cocoa-conversation/
LOCATION:Glen Eddy\, One Glen Eddy Drive\, Niskayuna\, NY\, 12309\, United States
CATEGORIES:Glen Eddy
END:VEVENT
BEGIN:VEVENT
DTSTART;TZID=America/New_York:20190129T113000
DTEND;TZID=America/New_York:20190129T130000
DTSTAMP:20260424T235529
CREATED:20190103T210615Z
LAST-MODIFIED:20220214T210327Z
UID:4976-1548761400-1548766800@www.eddyseniorliving.com
SUMMARY:Glen Eddy to host Organize Senior Moves on Downsizing
DESCRIPTION:RSVP today for this lunch presentation on downsizing. Come learn the tips and tools from Organize Senior Moves.  This informative\, interesting and FREE presentation will be Tuesday\, January 29th at noon.  Seating is limited\, call today to reserve your spot!  518-280-8369.
URL:https://www.eddyseniorliving.com/event/glen-eddy-to-host-organize-senior-moves-on-downsizing/
LOCATION:Glen Eddy\, One Glen Eddy Drive\, Niskayuna\, NY\, 12309\, United States
CATEGORIES:Glen Eddy
END:VEVENT
BEGIN:VEVENT
DTSTART;TZID=America/New_York:20181119T140000
DTEND;TZID=America/New_York:20181119T150000
DTSTAMP:20260424T235529
CREATED:20181106T194547Z
LAST-MODIFIED:20220214T211859Z
UID:4845-1542636000-1542639600@www.eddyseniorliving.com
SUMMARY:The Glen Eddy presents Keeping in touch with others through technology class
DESCRIPTION:Monday\, November 19th at 2pm\, marks the ‘Keeping in touch with others through technology’ class.  This free class will be held on the campus at Glen Eddy. Come learn how to use the latest technology\, and stay in touch with family and friends.  Seating is limited\, RSVP today at: 518-280-8368.
URL:https://www.eddyseniorliving.com/event/the-glen-eddy-presents-keeping-in-touch-with-others-through-technology-class/
LOCATION:Glen Eddy\, One Glen Eddy Drive\, Niskayuna\, NY\, 12309\, United States
CATEGORIES:Glen Eddy
END:VEVENT
BEGIN:VEVENT
DTSTART;TZID=America/New_York:20181029T150000
DTEND;TZID=America/New_York:20181029T160000
DTSTAMP:20260424T235529
CREATED:20180905T173459Z
LAST-MODIFIED:20180905T173459Z
UID:4657-1540825200-1540828800@www.eddyseniorliving.com
SUMMARY:Glen Eddy Presents: Dr. Jonah Marshall and Updates in Robotics and Minimally Invasive Surgeries
DESCRIPTION:Make plans to join us on Monday\, October 29th from 3-4 pm\, for this free lecture from Dr. Marshall.  Robotics and Minimally Invasive Surgeries will be the topic.  This is a FREE event\, seating is limited\, please rsvp today at: 518-280-8368
URL:https://www.eddyseniorliving.com/event/glen-eddy-presents-dr-jonah-marshall-and-updates-in-robotics-and-minimally-invasive-surgeries/
LOCATION:NY
CATEGORIES:Glen Eddy
END:VEVENT
BEGIN:VEVENT
DTSTART;TZID=America/New_York:20180906T120000
DTEND;TZID=America/New_York:20180906T140000
DTSTAMP:20260424T235529
CREATED:20180730T160930Z
LAST-MODIFIED:20180730T160930Z
UID:4569-1536235200-1536242400@www.eddyseniorliving.com
SUMMARY:Retirement Living Pricing Symposium to held at Glen Eddy
DESCRIPTION:On Thursday\, September 6th from 12-2\, Glen Eddy will be hosting a retirement living pricing symposium.  A buffet lunch will also be served.  This event is FREE\, with limited seating. Please RSVP for this educational event at: 518-280-8368.
URL:https://www.eddyseniorliving.com/event/retirement-living-pricing-symposium-to-held-at-glen-eddy/
LOCATION:NY
CATEGORIES:Glen Eddy
END:VEVENT
BEGIN:VEVENT
DTSTART;TZID=America/New_York:20180820T140000
DTEND;TZID=America/New_York:20180820T160000
DTSTAMP:20260424T235529
CREATED:20180730T160636Z
LAST-MODIFIED:20180730T160636Z
UID:4567-1534773600-1534780800@www.eddyseniorliving.com
SUMMARY:Glen Eddy presents "Smart Seniors"
DESCRIPTION:Senior Scams are everywhere! Mark your calendars and make plans to learn how not to fall victim to a scam.  Monday\, August 20th at 2pm at the Glen Eddy.  This event is free\, with limited seating. RSVP today at: 518-280-8368.
URL:https://www.eddyseniorliving.com/event/glen-eddy-presents-smart-seniors/
LOCATION:NY
CATEGORIES:Glen Eddy
END:VEVENT
BEGIN:VEVENT
DTSTART;TZID=America/New_York:20180628T120000
DTEND;TZID=America/New_York:20180628T140000
DTSTAMP:20260424T235529
CREATED:20180608T151243Z
LAST-MODIFIED:20220214T212851Z
UID:4449-1530187200-1530194400@www.eddyseniorliving.com
SUMMARY:Taste of Glen Eddy - June 28\, 2018
DESCRIPTION:On Thursday\, June 28th from 12-2\, Glen Eddy will be hosting a ‘Taste of Glen Eddy’.  This lunch event is FREE\, but seating is limited. RSVP today to Claire at: 518-280-8368
URL:https://www.eddyseniorliving.com/event/taste-of-glen-eddy/
LOCATION:Glen Eddy\, One Glen Eddy Drive\, Niskayuna\, NY\, 12309\, United States
CATEGORIES:Glen Eddy
END:VEVENT
BEGIN:VEVENT
DTSTART;TZID=America/New_York:20180625T190000
DTEND;TZID=America/New_York:20180625T210000
DTSTAMP:20260424T235529
CREATED:20180425T201705Z
LAST-MODIFIED:20180425T201705Z
UID:4385-1529953200-1529960400@www.eddyseniorliving.com
SUMMARY:Glen Eddy to offer Alzheimer's presentation
DESCRIPTION:Mark your calendars on Monday\, June 25th\, for an Alzheimer’s Presentation at Glen Eddy.  The program is Free\, and begins at 7pm.  RSVP today at: 518-280-8368
URL:https://www.eddyseniorliving.com/event/glen-eddy-to-offer-alzheimers-presentation/
LOCATION:NY
CATEGORIES:Glen Eddy
END:VEVENT
BEGIN:VEVENT
DTSTART;TZID=America/New_York:20180522T120000
DTEND;TZID=America/New_York:20180522T140000
DTSTAMP:20260424T235529
CREATED:20180425T201258Z
LAST-MODIFIED:20180427T180152Z
UID:4383-1526990400-1526997600@www.eddyseniorliving.com
SUMMARY:Glen Eddy Hosts Organize Senior Moves
DESCRIPTION:Come and learn the tips and tools to a smooth move. Organize Senior Moves will be at Glen Eddy on Tuesday\, May 22nd at noon.  This FREE event will fill quickly\, rsvp today at: 518-280-8368.
URL:https://www.eddyseniorliving.com/event/glen-eddy-hosts-organized-senior-moves/
LOCATION:NY
CATEGORIES:Glen Eddy
END:VEVENT
BEGIN:VEVENT
DTSTART;TZID=America/New_York:20180423T140000
DTEND;TZID=America/New_York:20180423T160000
DTSTAMP:20260424T235529
CREATED:20180301T134337Z
LAST-MODIFIED:20180301T134337Z
UID:4289-1524492000-1524499200@www.eddyseniorliving.com
SUMMARY:Paint & Sip at Glen Eddy
DESCRIPTION:On Monday\, April 23rd  at 2pm\, Glen Eddy will be having a paint & sip. Come join the fun!   This is a free event\, but seating will be limited.  RSVP today at: 518-280-8369.
URL:https://www.eddyseniorliving.com/event/paint-sip-glen-eddy/
LOCATION:NY
CATEGORIES:Glen Eddy
END:VEVENT
BEGIN:VEVENT
DTSTART;TZID=America/New_York:20180412T130000
DTEND;TZID=America/New_York:20180412T150000
DTSTAMP:20260424T235529
CREATED:20180228T213044Z
LAST-MODIFIED:20180228T213044Z
UID:4285-1523538000-1523545200@www.eddyseniorliving.com
SUMMARY:Anthony Gucciardo & Today's Real Estate at Glen Eddy
DESCRIPTION:Glen Eddy will host Anthony Gucciardo and Today’s Real Estate presentation on Thursday\, April 12th.   Mark your calendars!  Seating for this FREE event is limited\, call today at: 518-280-8369.
URL:https://www.eddyseniorliving.com/event/anthony-gucciardo-todays-real-estate-glen-eddy/
LOCATION:NY
CATEGORIES:Glen Eddy
END:VEVENT
BEGIN:VEVENT
DTSTART;TZID=America/New_York:20171025T123000
DTEND;TZID=America/New_York:20171025T143000
DTSTAMP:20260424T235529
CREATED:20170818T151308Z
LAST-MODIFIED:20220214T212943Z
UID:3831-1508934600-1508941800@www.eddyseniorliving.com
SUMMARY:Taste of Glen Eddy - October 25\, 2017
DESCRIPTION:Enjoy fine dining at it’s best!  The Taste of Glen Eddy will be Wednesday\, October 25th starting at 12:30.  Reserve your seat today\, this event will fill quickly!  518-280-8369.
URL:https://www.eddyseniorliving.com/event/taste-glen-eddy/
LOCATION:NY
CATEGORIES:Glen Eddy
END:VEVENT
BEGIN:VEVENT
DTSTART;TZID=America/New_York:20170912T130000
DTEND;TZID=America/New_York:20170912T150000
DTSTAMP:20260424T235529
CREATED:20170630T135903Z
LAST-MODIFIED:20170731T192002Z
UID:3718-1505221200-1505228400@www.eddyseniorliving.com
SUMMARY:Glen Eddy to host Health Resource Fair
DESCRIPTION:Glen Eddy invites you to the Health Resource Fair on Tuesday\, September 12th from 1-3 pm.   This is a Free event! Please let us know that you are planning to attend by calling Claire Oliver\, at: 518-280-8368.
URL:https://www.eddyseniorliving.com/event/glen-eddy-host-health-resource-fair/
LOCATION:NY
CATEGORIES:Glen Eddy
END:VEVENT
BEGIN:VEVENT
DTSTART;TZID=America/New_York:20170525T133000
DTEND;TZID=America/New_York:20170525T150000
DTSTAMP:20260424T235529
CREATED:20170404T151513Z
LAST-MODIFIED:20170404T151513Z
UID:3547-1495719000-1495724400@www.eddyseniorliving.com
SUMMARY:Glen Eddy Resident Panel-People Just like you!
DESCRIPTION:Hear first hand experience from current Glen Eddy Residents\, discover how they ‘right-sized’ their lives.  Join us on Thursday\, May 25th at 2pm\,  for this FREE event.  Seating is limited\, rsvp today at: 518-280-8369
URL:https://www.eddyseniorliving.com/event/glen-eddy-resident-panel-people-just-like/
LOCATION:NY
CATEGORIES:Glen Eddy
END:VEVENT
BEGIN:VEVENT
DTSTART;TZID=America/New_York:20170511T113000
DTEND;TZID=America/New_York:20170511T133000
DTSTAMP:20260424T235529
CREATED:20170404T151216Z
LAST-MODIFIED:20170404T151216Z
UID:3545-1494502200-1494509400@www.eddyseniorliving.com
SUMMARY:"Don't Toss My Memories in the Trash"
DESCRIPTION:Author and speaker\, Vickie Dellaquila will present the psychological connection to many of items we’ve collected.  She will discuss how things weigh us down and hold us back.  Tips and tricks on how to focus on what you really want to keep in life.   Join us Thursday\, May 11th at 12 noon  at Glen Eddy in Niskayuna. This event is FREE\, seating is limited.  Call:  280-8369 to rsvp today!
URL:https://www.eddyseniorliving.com/event/dont-toss-memories-trash/
LOCATION:NY
CATEGORIES:Glen Eddy
END:VEVENT
BEGIN:VEVENT
DTSTART;TZID=America/New_York:20170427T133000
DTEND;TZID=America/New_York:20170427T160000
DTSTAMP:20260424T235529
CREATED:20170404T150620Z
LAST-MODIFIED:20170404T150620Z
UID:3543-1493299800-1493308800@www.eddyseniorliving.com
SUMMARY:The Ins and Outs of Real Estate
DESCRIPTION:Glen Eddy\, will host our Area’s top real estate broker\, Anthony Gucciardo\,  who will present the Ins and Outs of Real Estate in the Capital Region. He will present valuable information on how to list\, stage and sell a home. This FREE event is scheduled for Thursday\, April 27th at 2pm.    Limited Seating\, call: 280-8369 today!
URL:https://www.eddyseniorliving.com/event/ins-outs-real-estate/
LOCATION:NY
CATEGORIES:Glen Eddy
END:VEVENT
BEGIN:VEVENT
DTSTART;TZID=America/New_York:20170405T170000
DTEND;TZID=America/New_York:20170405T180000
DTSTAMP:20260424T235529
CREATED:20170308T153658Z
LAST-MODIFIED:20170308T153658Z
UID:3465-1491411600-1491415200@www.eddyseniorliving.com
SUMMARY:Head-to-Toe Health for Seniors Series:  Healthy Hearing and Communication
DESCRIPTION:Join Dr. Debra Trees at Glen Eddy for insights from an expert on the importance of healthy hearing!  This event is complimentary! Seating is limited–RSVP at 518-280-8385 today!
URL:https://www.eddyseniorliving.com/event/head-toe-health-seniors-series-healthy-hearing-communication/
LOCATION:NY
CATEGORIES:Glen Eddy
END:VEVENT
END:VCALENDAR